BEGIN:VCALENDAR
VERSION:2.0
PRODID:-//PUNTO OLISTICO "Sentieri di Armonia"//NONSGML kigkonsult.se iCalc
 reator 2.30.10//
CALSCALE:GREGORIAN
METHOD:PUBLISH
UID:edc787c2-d116-4d42-9fb7-dedb5a85d56b
X-WR-CALNAME:iCagenda
X-WR-CALDESC:Event Management Extension for Joomla!
X-WR-RELCALID:3E26604A-50F4-4449-8B3E-E4F4932D05B5
X-WR-TIMEZONE:UTC
BEGIN:VTIMEZONE
TZID:UTC
END:VTIMEZONE
BEGIN:VEVENT
UID:446a2d29-5334-46ed-a3a6-3ae06fcde292
DTSTAMP:20260425T022021Z
CATEGORIES:Weekend Yoga & Natura in Montagna
CLASS:PUBLIC
DESCRIPTION;ALTREP="CID:<FFFF__=0ABBE548DFE235B58f9e8a93d@coffeebean.com>":
 Scopriamo insieme la “Mappa della vita”Ci guidano 3 grandi maestri:&nbsp\;
 lo Yoga\, la Natura e la Numerologia.\nQuando?&nbsp\;\n1/2/3 maggio 2026\n
 Approfitta del ponte del 1 maggio per scoprire qualcosa di nuovo e utile&n
 bsp\;per te e per chi ti è vicino.\nDove?\n\nIn Alta Valsusa\, nel paesino
  di Oulx\, sulla Linea di potere della Terra chiamata 'Linea del Drago'.\n
 Qui le frequenze sono altissime ti aiuteranno a sollevare il tuo stato vit
 ale.La Natura qui ti permette di aprire il tuo sguardo e spaziare\;&nbsp\;
 guardare dall’alto è sempre una buona soluzione !È facile raggiungere il p
 aesino sia in treno che in autostrada.\nPerchè?\nNon sempre è facile esser
 e certi delle proprie scelte in questa vita e se è capitato anche a te di 
 sentirti ferm@\,&nbsp\; come ad un blocco di partenza dove non riesci a st
 accare il piede\, questa vacanza&nbsp\; può esserti utile.\n\nLo Yoga ti a
 iuterà a centrarti\, trovare il tuo equilibrio e sciogliere le emozioni fe
 rme nel corpo\nLa Natura ti farà da ispiratrice\, donandosi\nLa Numerologi
 a ti offrirà una lettura degli eventi della tua vita per aiutarti a capirl
 i e capirti meglio.\n\nTutto il viaggio della vita è per comprendere ma\, 
 prima di tutto\, bisogna comprendersi.\n{youtube}N7v_DdnBe-o{/youtube}\nCo
 me si svolgeranno le giornate in questa vacanza speciale?\nARRIVO VENERDì 
 1 MAGGIO entro le Ore 10.00&nbsp\;\n\nSistemazione nelle camere\, piccolo 
 coffee break e partenza per una escursione di forest bathing\nIl bosco rac
 conta\, a noi il privilegio dell’ascolto\nPranzo al sacco\nRientro per le 
 ore 15.00 circa\nIniziamo a conoscere la Numerologia: dalle 17 alle 19 cir
 ca con Minuta Ghioc\, grande studiosa ed appassionata di Numerologia ed As
 trologia.\nOre 20.00 circa cena biologica\, vegetariana\, per la salute\;&
 nbsp\; 'Il cibo che ci aiuta a star bene'.\nDopo cena: 2 ore con Mina ed i
  Numeri...\n\n\nSABATO 2 MAGGIO\n\nPratica Yoga in saletta in orario decis
 o la sera precedente. 'La mappa della Vita secondo lo Yoga'\nColazione bio
 logica\, salutare\, abbondante!\nSatsang\, conversazioni illuminate\nEscur
 sione in un meraviglioso luogo di potere di questa Valle ad assorbire tutt
 a l’energia di cui abbiamo bisogno\nPranzo al sacco\nRientro verso le ore 
 15.00\nOre 17.00/19.00 circa: i numeri della nostra vita….\nOre 20.00 circ
 :a cena biologica\, vegetariana\, per la salute\;&nbsp\; Il cibo che ci ai
 uta a star bene\nDopo cena: la griglia numerologica.\n\n\nDOMENICA 3 MAGGI
 O\n\nPratica Yoga in saletta in orario deciso la sera precedente. 'La mapp
 a della Vita secondo lo Yoga'\nColazione biologica\, salutare\, abbondante
 !\nSatsang\, conversazioni illuminate.\nEscursione in un altro meraviglios
 o luogo di potere di questa Valle ad assorbire tutta l’energia di cui abbi
 amo bisogno.\nPranzo al sacco\nTermine del percorso insieme ore 15.00\n\n
 \nIl Contributo di partecipazione a questo percorso&nbsp\;Yoga\, Natura e 
 Numerologia&nbsp\;è di Euro 190\nInclude:\n\nPratiche Yoga\nCorso base di 
 Numerologia di 8 ore&nbsp\;\n3 Escursioni guidate nella natura\n2 cene cuc
 inate nel rispetto della salute\, abbondanti e Km 0.\n\nLa Sistemazione pu
 ò essere presso il B&amp\;B 'PER TE'\n🌐www.bedandbreakfastperte.it\n\nLa c
 asa di Laura Eynard\, nel cuore del borgo storico di Oulx (TO) è un ambien
 te in legno e fibre naturali\, armonizzato con dispositivi geopatici e acq
 ua informata.\nL’accoglienza è famigliare\, l’ atmosfera calda e autentica
 \; non è un albergo ma una casa privata.\nPrezzo convenzionato soci:&nbsp\
 ;€100 per le 2 notti&nbsp\;(colazione inclusa).&nbsp\;\nÈ possibile anche\
 , in caso volessi staccare completamente\, arrivare il giovedì sera.In que
 sto caso si aggiunge il costo di una notte senza colazione (euro 40)\nCome
  posso fare per partecipare?\nIl Weekend è riservato ai soci in regola con
  tesseramento 2026.Se per caso non sei ancora socio\, ma condividi il nost
 ro amore per lo sport e l’attività nella natura\, lo yoga ed il benessere 
 psicofisico contattaci via&nbsp\;mail&nbsp\;o&nbsp\;telefono/WhatsApp&nbsp
 \;3356394103Saremo contenti di spiegarti come fare !&nbsp\;* Il numero mas
 simo di partecipanti è limitato a 10 persone\nCONTATTACI (Compilando il Fo
 rm)Mob/WhatsApp:&nbsp\;+ 39. 335. 63. 94103\nChi Vi accompagna in questa e
 sperienza?Avvicinarci alla vita con amore ogni giorno\, con gli occhi di u
 n bambino che si stupisce ogni istante: questo il nostro motto.E dunque pr
 atichiamo yoga con amore\, cuciniamo con amore\, ci dedichiamo a voi con a
 more.Poggiamo i nostri piedi sulla terra con amore e rispetto e se cammine
 rete con noi sentirete la terra rispondervi con altrettanto amore e rispet
 to: la serenità che ne nascerà sarà la più grande ricchezza.\n{loadmodulei
 d 197}\n{loadmoduleid 198}\n{loadmoduleid 199}
DTSTART:20260501T100000Z
DTEND:20260503T150000Z
GEO:00;0
LOCATION:
ORGANIZER:
SEQUENCE:1
SUMMARY:Scopriamo insieme la “Mappa della vita”. Ci guidano 3 grandi maestr
 i:  lo Yoga\, la Natura e la Numerologia
TRANSP:OPAQUE
URL:https://www.sentieridiarmonia.org/index.php/it/calendario-eventi-sentie
 ri-di-armonia/41-scopriamo-insieme-la-mappa-della-vita-ci-guidano-3-grandi
 -maestri-lo-yoga-la-natura-e-la-numerologia
END:VEVENT
END:VCALENDAR
